BEGIN:VCALENDAR
VERSION:2.0
PRODID:-//Tukios.com/
BEGIN:VEVENT
UID:c0ef137b-e892-4826-97c2-e51d6744d01d@www.oconnellfh.com
DTSTAMP:20260420T221650Z
DTSTART:20260428T140000Z
DTEND:20260428T154500Z
SUMMARY:Visitation
DESCRIPTION:
URL:https://www.oconnellfh.com/obituaries/gerrit-janssen
LOCATION: 410 Wallace St  Combined Locks WI 54113
GEO:44.2665922;-88.3098992
END:VEVENT
END:VCALENDAR