BEGIN:VCALENDAR
VERSION:2.0
PRODID:-//Tukios.com/
BEGIN:VEVENT
UID:28278f97-b326-471b-acdf-a2c3a04dab51@www.oconnellfh.com
DTSTAMP:20260420T221710Z
DTSTART:20260428T160000Z
DTEND:20260428T170000Z
SUMMARY:Mass
DESCRIPTION:
URL:https://www.oconnellfh.com/obituaries/gerrit-janssen
LOCATION: 410 Wallace St  Combined Locks WI 54113
GEO:44.2665922;-88.3098992
END:VEVENT
END:VCALENDAR